BEGIN:VCALENDAR
VERSION:2.0
PRODID:-//Harbor United Methodist Church - ECPv6.15.13//NONSGML v1.0//EN
CALSCALE:GREGORIAN
METHOD:PUBLISH
X-WR-CALNAME:Harbor United Methodist Church
X-ORIGINAL-URL:https://harborumc.org
X-WR-CALDESC:Events for Harbor United Methodist Church
REFRESH-INTERVAL;VALUE=DURATION:PT1H
X-Robots-Tag:noindex
X-PUBLISHED-TTL:PT1H
BEGIN:VTIMEZONE
TZID:Asia/Karachi
BEGIN:STANDARD
TZOFFSETFROM:+0500
TZOFFSETTO:+0500
TZNAME:PKT
DTSTART:20250101T000000
END:STANDARD
END:VTIMEZONE
BEGIN:VEVENT
DTSTART;TZID=Asia/Karachi:20260422T120000
DTEND;TZID=Asia/Karachi:20260422T133000
DTSTAMP:20260420T200439
CREATED:20260415T210417Z
LAST-MODIFIED:20260415T210417Z
UID:10006098-1776859200-1776864600@harborumc.org
SUMMARY:Men's Luncheon
DESCRIPTION:Food and Fellowship
URL:https://harborumc.org/eve/mens-luncheon-4/
LOCATION:The Fours\, Norwell\, MA\, Norwell\, MA
END:VEVENT
END:VCALENDAR